BEGIN:VCALENDAR
VERSION:2.0
PRODID:-//hacksw/handcal//NONSGML v1.0//EN
BEGIN:VEVENT
SUMMARY:Sortie longue
UID:893494b5-0f11-4510-af93-af92e7c1a570
DTSTART:20260522T220000Z
DTEND:20260523T220000Z
LOCATION:Localisation   
CATEGORIES:Sportif
STATUS:
URL;VALUE=URI:https://www.cycloclubchateaubourg.fr/evenements/2026/05/23/sortie-longue-2443783
END:VEVENT
END:VCALENDAR
